BEGIN:VCALENDAR
VERSION:2.0
PRODID:-// - ECPv6.15.20//NONSGML v1.0//EN
CALSCALE:GREGORIAN
METHOD:PUBLISH
X-ORIGINAL-URL:https://www.brandondannals.com
X-WR-CALDESC:Events for 
REFRESH-INTERVAL;VALUE=DURATION:PT1H
X-Robots-Tag:noindex
X-PUBLISHED-TTL:PT1H
BEGIN:VTIMEZONE
TZID:UTC
BEGIN:STANDARD
TZOFFSETFROM:+0000
TZOFFSETTO:+0000
TZNAME:UTC
DTSTART:20250101T000000
END:STANDARD
END:VTIMEZONE
BEGIN:VEVENT
DTSTART;TZID=UTC:20260218T180000
DTEND;TZID=UTC:20260218T210000
DTSTAMP:20260425T170249
CREATED:20260201T185550Z
LAST-MODIFIED:20260201T185550Z
UID:1807-1771437600-1771448400@www.brandondannals.com
SUMMARY:Brandon solo at the Owl
DESCRIPTION:
URL:https://www.brandondannals.com/event/brandon-solo-at-the-owl/
END:VEVENT
END:VCALENDAR