BEGIN:VCALENDAR
VERSION:2.0
PRODID:-// - ECPv6.15.20//NONSGML v1.0//EN
CALSCALE:GREGORIAN
METHOD:PUBLISH
X-ORIGINAL-URL:https://www.brandondannals.com
X-WR-CALDESC:Events for 
REFRESH-INTERVAL;VALUE=DURATION:PT1H
X-Robots-Tag:noindex
X-PUBLISHED-TTL:PT1H
BEGIN:VTIMEZONE
TZID:UTC
BEGIN:STANDARD
TZOFFSETFROM:+0000
TZOFFSETTO:+0000
TZNAME:UTC
DTSTART:20250101T000000
END:STANDARD
END:VTIMEZONE
BEGIN:VEVENT
DTSTART;TZID=UTC:20260314T130000
DTEND;TZID=UTC:20260314T163000
DTSTAMP:20260425T153031
CREATED:20260201T190044Z
LAST-MODIFIED:20260201T191325Z
UID:1813-1773493200-1773505800@www.brandondannals.com
SUMMARY:Avanguardia Wine
DESCRIPTION:Relax to acoustic and maybe some electric songs on a winter afternoon.
URL:https://www.brandondannals.com/event/avanguardia-wine/
LOCATION:Avanguardia Wine\, 163 Mill St\, Grass Valley\, CA\, 95945\, United States
END:VEVENT
END:VCALENDAR