BEGIN:VCALENDAR
VERSION:2.0
PRODID:-// - ECPv6.15.20//NONSGML v1.0//EN
CALSCALE:GREGORIAN
METHOD:PUBLISH
X-ORIGINAL-URL:https://www.brandondannals.com
X-WR-CALDESC:Events for 
REFRESH-INTERVAL;VALUE=DURATION:PT1H
X-Robots-Tag:noindex
X-PUBLISHED-TTL:PT1H
BEGIN:VTIMEZONE
TZID:UTC
BEGIN:STANDARD
TZOFFSETFROM:+0000
TZOFFSETTO:+0000
TZNAME:UTC
DTSTART:20250101T000000
END:STANDARD
END:VTIMEZONE
BEGIN:VEVENT
DTSTART;TZID=UTC:20260410T200000
DTEND;TZID=UTC:20260410T230000
DTSTAMP:20260425T133251
CREATED:20260316T204953Z
LAST-MODIFIED:20260316T204953Z
UID:1826-1775851200-1775862000@www.brandondannals.com
SUMMARY:Bunces with Band!
DESCRIPTION:Usually play solo but bringing one or two from band!
URL:https://www.brandondannals.com/event/bunces-with-band/
END:VEVENT
END:VCALENDAR