BEGIN:VCALENDAR
VERSION:2.0
PRODID:-// - ECPv6.15.20//NONSGML v1.0//EN
CALSCALE:GREGORIAN
METHOD:PUBLISH
X-ORIGINAL-URL:https://www.brandondannals.com
X-WR-CALDESC:Events for 
REFRESH-INTERVAL;VALUE=DURATION:PT1H
X-Robots-Tag:noindex
X-PUBLISHED-TTL:PT1H
BEGIN:VTIMEZONE
TZID:UTC
BEGIN:STANDARD
TZOFFSETFROM:+0000
TZOFFSETTO:+0000
TZNAME:UTC
DTSTART:20250101T000000
END:STANDARD
END:VTIMEZONE
BEGIN:VEVENT
DTSTART;TZID=UTC:20260619T143000
DTEND;TZID=UTC:20260619T153000
DTSTAMP:20260425T161415
CREATED:20260316T223952Z
LAST-MODIFIED:20260316T223952Z
UID:1838-1781879400-1781883000@www.brandondannals.com
SUMMARY:Cascade Living Retirement Home
DESCRIPTION:
URL:https://www.brandondannals.com/event/cascade-living-retirement-home/
END:VEVENT
END:VCALENDAR