BEGIN:VCALENDAR
VERSION:2.0
PRODID:-// - ECPv6.15.20//NONSGML v1.0//EN
CALSCALE:GREGORIAN
METHOD:PUBLISH
X-ORIGINAL-URL:https://www.brandondannals.com
X-WR-CALDESC:Events for 
REFRESH-INTERVAL;VALUE=DURATION:PT1H
X-Robots-Tag:noindex
X-PUBLISHED-TTL:PT1H
BEGIN:VTIMEZONE
TZID:UTC
BEGIN:STANDARD
TZOFFSETFROM:+0000
TZOFFSETTO:+0000
TZNAME:UTC
DTSTART:20250101T000000
END:STANDARD
END:VTIMEZONE
BEGIN:VEVENT
DTSTART;TZID=UTC:20260423T170000
DTEND;TZID=UTC:20260423T200000
DTSTAMP:20260423T123932
CREATED:20260316T223422Z
LAST-MODIFIED:20260316T223422Z
UID:1832-1776963600-1776974400@www.brandondannals.com
SUMMARY:Lake of the Pines Clubhouse!!
DESCRIPTION:Join me groovin solo at this fun location!!
URL:https://www.brandondannals.com/event/lake-of-the-pines-clubhouse/
END:VEVENT
BEGIN:VEVENT
DTSTART;TZID=UTC:20260501T160000
DTEND;TZID=UTC:20260501T170000
DTSTAMP:20260423T123932
CREATED:20260316T223827Z
LAST-MODIFIED:20260316T223827Z
UID:1836-1777651200-1777654800@www.brandondannals.com
SUMMARY:Bret Harte with oldies show
DESCRIPTION:This is always special running through my folk and rock n roll classics.
URL:https://www.brandondannals.com/event/bret-harte-with-oldies-show/
END:VEVENT
BEGIN:VEVENT
DTSTART;TZID=UTC:20260619T143000
DTEND;TZID=UTC:20260619T153000
DTSTAMP:20260423T123932
CREATED:20260316T223952Z
LAST-MODIFIED:20260316T223952Z
UID:1838-1781879400-1781883000@www.brandondannals.com
SUMMARY:Cascade Living Retirement Home
DESCRIPTION:
URL:https://www.brandondannals.com/event/cascade-living-retirement-home/
END:VEVENT
BEGIN:VEVENT
DTSTART;TZID=UTC:20260704T200000
DTEND;TZID=UTC:20260704T233000
DTSTAMP:20260423T123933
CREATED:20260316T223628Z
LAST-MODIFIED:20260316T223628Z
UID:1834-1783195200-1783207800@www.brandondannals.com
SUMMARY:St Charles Place in Downieville with Brandon Dannals Band!!!
DESCRIPTION:Happy 4th  lets get rockin!!
URL:https://www.brandondannals.com/event/st-charles-place-in-downieville-with-brandon-dannals-band/
END:VEVENT
END:VCALENDAR