BEGIN:VCALENDAR
VERSION:2.0
PRODID:-// - ECPv6.15.20//NONSGML v1.0//EN
CALSCALE:GREGORIAN
METHOD:PUBLISH
X-ORIGINAL-URL:https://www.brandondannals.com
X-WR-CALDESC:Events for 
REFRESH-INTERVAL;VALUE=DURATION:PT1H
X-Robots-Tag:noindex
X-PUBLISHED-TTL:PT1H
BEGIN:VTIMEZONE
TZID:UTC
BEGIN:STANDARD
TZOFFSETFROM:+0000
TZOFFSETTO:+0000
TZNAME:UTC
DTSTART:20230101T000000
END:STANDARD
END:VTIMEZONE
BEGIN:VEVENT
DTSTART;TZID=UTC:20251219T180000
DTEND;TZID=UTC:20251219T200000
DTSTAMP:20260425T200111
CREATED:20251203T175307Z
LAST-MODIFIED:20251203T175723Z
UID:1793-1766167200-1766174400@www.brandondannals.com
SUMMARY:Cornish Christmas at Avanguardia Wine Mill Street!
DESCRIPTION:Family Fun as you join me with your favorite Christmas tunes and maybe some you have not heard….
URL:https://www.brandondannals.com/event/cornish-christmas-at-avanguardia-wine-mill-street/
LOCATION:Avanguardia Wine\, 163 Mill St\, Grass Valley\, CA\, 95945\, United States
END:VEVENT
BEGIN:VEVENT
DTSTART;TZID=UTC:20251217T173000
DTEND;TZID=UTC:20251217T213000
DTSTAMP:20260425T200111
CREATED:20251124T222212Z
LAST-MODIFIED:20251124T222212Z
UID:1778-1765992600-1766007000@www.brandondannals.com
SUMMARY:Victorian Christmas Again!
DESCRIPTION:Come to Victorian Christmas  in Nevada City! \n5:30-9:30pm\, near Three Forks parking lot where they roast Chestnuts!
URL:https://www.brandondannals.com/event/victorian-christmas-again/
LOCATION:Three Forks Bakery & Brewing Co.\, 211 Commercial St\, Nevada City\, CA\, 95959\, United States
END:VEVENT
BEGIN:VEVENT
DTSTART;TZID=UTC:20251212T170000
DTEND;TZID=UTC:20251212T200000
DTSTAMP:20260425T200111
CREATED:20251124T222453Z
LAST-MODIFIED:20251124T222453Z
UID:1780-1765558800-1765569600@www.brandondannals.com
SUMMARY:Rough and Ready Grange Christmas Party!
DESCRIPTION:Rough and Ready Grange Christmas Party!
URL:https://www.brandondannals.com/event/rough-and-ready-grange-christmas-party-2/
LOCATION:Rough & Ready Grange\, 14550 Rough and Ready Hwy\, Rough and Ready\, CA\, 95975\, United States
END:VEVENT
BEGIN:VEVENT
DTSTART;TZID=UTC:20251210T173000
DTEND;TZID=UTC:20251210T213000
DTSTAMP:20260425T200111
CREATED:20251124T221808Z
LAST-MODIFIED:20251124T221808Z
UID:1774-1765387800-1765402200@www.brandondannals.com
SUMMARY:Victorian Christmas!
DESCRIPTION:Come to Victorian Christmas  in Nevada City! \n5:30-9:30pm\, near Three Forks parking lot where they roast Chestnuts!
URL:https://www.brandondannals.com/event/victorian-christmas/
LOCATION:Three Forks Bakery & Brewing Co.\, 211 Commercial St\, Nevada City\, CA\, 95959\, United States
END:VEVENT
BEGIN:VEVENT
DTSTART;TZID=UTC:20251207T150000
DTEND;TZID=UTC:20251207T180000
DTSTAMP:20260425T200111
CREATED:20251205T192451Z
LAST-MODIFIED:20251205T192451Z
UID:1795-1765119600-1765130400@www.brandondannals.com
SUMMARY:Victorian Christmas!
DESCRIPTION:Join a group of us gathered around where they are roasting chestnuts!  Brandon will lead us as we sing carols old and new including some made up on the spot. Fun for the whole family!
URL:https://www.brandondannals.com/event/victorian-christmas-2/
LOCATION:Nevada City
END:VEVENT
BEGIN:VEVENT
DTSTART;TZID=UTC:20251205T180000
DTEND;TZID=UTC:20251205T200000
DTSTAMP:20260425T200111
CREATED:20251203T174759Z
LAST-MODIFIED:20251203T180809Z
UID:1791-1764957600-1764964800@www.brandondannals.com
SUMMARY:Cornish Christmas at Avanguardia Wine on Mill Street!
DESCRIPTION:Join myself and Neera for some Christmas tunes and bring the family!
URL:https://www.brandondannals.com/event/cornish-christmas-at-avanguardia-wine-on-mill-street/
LOCATION:Avanguardia Wine\, 163 Mill St\, Grass Valley\, CA\, 95945\, United States
END:VEVENT
BEGIN:VEVENT
DTSTART;TZID=UTC:20251203T173000
DTEND;TZID=UTC:20251203T193000
DTSTAMP:20260425T200111
CREATED:20251124T221336Z
LAST-MODIFIED:20251124T221336Z
UID:1771-1764783000-1764790200@www.brandondannals.com
SUMMARY:Brandon Dannals Live at Lake Wildwood Oaks Clubhouse
DESCRIPTION:Come hang out in the Clubhouse and listen to some tunes!
URL:https://www.brandondannals.com/event/brandon-dannals-live-at-lake-wildwood-oaks-clubhouse/
LOCATION:Lake Wildwood Oaks Clubhouse\, 11255 Cottontail Way\, Penn Valley\, CA\, 95946\, United States
END:VEVENT
BEGIN:VEVENT
DTSTART;TZID=UTC:20251129T110000
DTEND;TZID=UTC:20251129T130000
DTSTAMP:20260425T200111
CREATED:20251124T220848Z
LAST-MODIFIED:20251124T220848Z
UID:1768-1764414000-1764421200@www.brandondannals.com
SUMMARY:Holiday Christmas Fair - Nevada County Fairgrounds
DESCRIPTION:Come listen to your favorite Christmas songs at the Holiday Christmas Fair!
URL:https://www.brandondannals.com/event/holiday-christmas-fair-nevada-county-fairgrounds/
LOCATION:Nevada County Fairgrounds\, 11228 McCourtney Rd\, Grass Valley\, CA\, 95949\, United States
END:VEVENT
BEGIN:VEVENT
DTSTART;TZID=UTC:20251128T173000
DTEND;TZID=UTC:20251128T193000
DTSTAMP:20260425T200111
CREATED:20251124T220338Z
LAST-MODIFIED:20251124T220338Z
UID:1765-1764351000-1764358200@www.brandondannals.com
SUMMARY:Brandon Dannals Live!
DESCRIPTION:It’s that Christmas time of year! Come out and have a glass of wine and listen to your favorite Christmas Songs! First Cornish Christmas!
URL:https://www.brandondannals.com/event/brandon-dannals-live/
LOCATION:Avanguardia Wine\, 163 Mill St\, Grass Valley\, CA\, 95945\, United States
END:VEVENT
BEGIN:VEVENT
DTSTART;TZID=UTC:20251005T150000
DTEND;TZID=UTC:20251005T190000
DTSTAMP:20260425T200111
CREATED:20250924T033735Z
LAST-MODIFIED:20250924T033735Z
UID:1763-1759676400-1759690800@www.brandondannals.com
SUMMARY:Bandon Dannals Solo
DESCRIPTION:October 5th- Cascade Shores General Store  3-7pm
URL:https://www.brandondannals.com/event/bandon-dannals-solo/
END:VEVENT
BEGIN:VEVENT
DTSTART;TZID=UTC:20251004T193000
DTEND;TZID=UTC:20251004T223000
DTSTAMP:20260425T200111
CREATED:20250924T033703Z
LAST-MODIFIED:20250924T033703Z
UID:1761-1759606200-1759617000@www.brandondannals.com
SUMMARY:Brandon Dannals Band
DESCRIPTION:October 4th- Uncle Sonny’s 7:30-10:30pm
URL:https://www.brandondannals.com/event/brandon-dannals-band/
END:VEVENT
BEGIN:VEVENT
DTSTART;TZID=UTC:20251004T120000
DTEND;TZID=UTC:20251004T160000
DTSTAMP:20260425T200111
CREATED:20250529T194131Z
LAST-MODIFIED:20250529T194131Z
UID:1717-1759579200-1759593600@www.brandondannals.com
SUMMARY:Oktoberfest with Brandon Dannals Band! Dutch Flat
DESCRIPTION:Join us in this sweet little town for a rockin’ party!
URL:https://www.brandondannals.com/event/oktoberfest-with-brandon-dannals-band-dutch-flat/
END:VEVENT
BEGIN:VEVENT
DTSTART;TZID=UTC:20250927T090000
DTEND;TZID=UTC:20250927T120000
DTSTAMP:20260425T200111
CREATED:20250924T033630Z
LAST-MODIFIED:20250924T033630Z
UID:1759-1758963600-1758974400@www.brandondannals.com
SUMMARY:Brandon Dannals Solo
DESCRIPTION:September 27- Grass Valley Farmers Market  9-12
URL:https://www.brandondannals.com/event/brandon-dannals-solo-2/
END:VEVENT
BEGIN:VEVENT
DTSTART;TZID=UTC:20250925T160000
DTEND;TZID=UTC:20250925T180000
DTSTAMP:20260425T200111
CREATED:20250924T033551Z
LAST-MODIFIED:20250924T033551Z
UID:1757-1758816000-1758823200@www.brandondannals.com
SUMMARY:Brandon Dannals Solo
DESCRIPTION:September 25th – Nevada City Winery   4-6pm
URL:https://www.brandondannals.com/event/brandon-dannals-solo/
END:VEVENT
BEGIN:VEVENT
DTSTART;TZID=UTC:20250810T140000
DTEND;TZID=UTC:20250810T170000
DTSTAMP:20260425T200111
CREATED:20250529T193853Z
LAST-MODIFIED:20250529T193853Z
UID:1715-1754834400-1754845200@www.brandondannals.com
SUMMARY:Brandon Dannals solo Foundation Station at Nevada County Fair!
DESCRIPTION:Join me at the Nevada County Fair for an acoustic set as well as your requests!
URL:https://www.brandondannals.com/event/brandon-dannals-solo-foundation-station-at-nevada-county-fair/
END:VEVENT
BEGIN:VEVENT
DTSTART;TZID=UTC:20250809T080000
DTEND;TZID=UTC:20250809T170000
DTSTAMP:20260425T200111
CREATED:20250804T171140Z
LAST-MODIFIED:20250804T171140Z
UID:1750-1754726400-1754758800@www.brandondannals.com
SUMMARY:Private Party in Grass Valley
DESCRIPTION:
URL:https://www.brandondannals.com/event/private-party-in-grass-valley/
END:VEVENT
BEGIN:VEVENT
DTSTART;TZID=UTC:20250809T080000
DTEND;TZID=UTC:20250809T170000
DTSTAMP:20260425T200111
CREATED:20250804T170707Z
LAST-MODIFIED:20250804T170707Z
UID:1747-1754726400-1754758800@www.brandondannals.com
SUMMARY:Private Party!!
DESCRIPTION:Solo acoustic duo in Grass Valley.
URL:https://www.brandondannals.com/event/private-party-5/
END:VEVENT
BEGIN:VEVENT
DTSTART;TZID=UTC:20250807T210000
DTEND;TZID=UTC:20250807T223000
DTSTAMP:20260425T200111
CREATED:20250529T193658Z
LAST-MODIFIED:20250529T193658Z
UID:1713-1754600400-1754605800@www.brandondannals.com
SUMMARY:Nevada County Fair w Brandon Dannals Band!!!
DESCRIPTION:Welcome to our late night debut as a band at the Nevada County Farigrounds!!!
URL:https://www.brandondannals.com/event/nevada-county-fair-w-brandon-dannals-band/
END:VEVENT
BEGIN:VEVENT
DTSTART;TZID=UTC:20250730T180000
DTEND;TZID=UTC:20250730T220000
DTSTAMP:20260425T200111
CREATED:20250529T193430Z
LAST-MODIFIED:20250529T193430Z
UID:1711-1753898400-1753912800@www.brandondannals.com
SUMMARY:Hot Summer Nights with the Brandon Dannals Band!!
DESCRIPTION:Join the Brandon Dannals Band as we bring use some good time rock n roll!
URL:https://www.brandondannals.com/event/hot-summer-nights-with-the-brandon-dannals-band/
END:VEVENT
BEGIN:VEVENT
DTSTART;TZID=UTC:20250606T170000
DTEND;TZID=UTC:20250606T210000
DTSTAMP:20260425T200111
CREATED:20250529T193306Z
LAST-MODIFIED:20250529T193306Z
UID:1708-1749229200-1749243600@www.brandondannals.com
SUMMARY:Nevada City Art Walk!
DESCRIPTION:Join the Brandon Dannals Band as we bring use some good time rock n roll!
URL:https://www.brandondannals.com/event/nevada-city-art-walk/
END:VEVENT
BEGIN:VEVENT
DTSTART;TZID=UTC:20250605T200000
DTEND;TZID=UTC:20250605T230000
DTSTAMP:20260425T200111
CREATED:20250529T194357Z
LAST-MODIFIED:20250529T194357Z
UID:1719-1749153600-1749164400@www.brandondannals.com
SUMMARY:Live Music Karaoke at The Fern Nevada City!
DESCRIPTION:This is always a hit so bring your favorite tune and I will accompany you!!
URL:https://www.brandondannals.com/event/live-music-karaoke-at-the-fern-nevada-city/
END:VEVENT
BEGIN:VEVENT
DTSTART;TZID=UTC:20250531T180000
DTEND;TZID=UTC:20250531T210000
DTSTAMP:20260425T200111
CREATED:20250529T193113Z
LAST-MODIFIED:20250529T193113Z
UID:1706-1748714400-1748725200@www.brandondannals.com
SUMMARY:Sierra City Private Event
DESCRIPTION:
URL:https://www.brandondannals.com/event/sierra-city-private-event/
END:VEVENT
BEGIN:VEVENT
DTSTART;TZID=UTC:20250219T190000
DTEND;TZID=UTC:20250219T210000
DTSTAMP:20260425T200112
CREATED:20241231T205244Z
LAST-MODIFIED:20241231T205244Z
UID:1703-1739991600-1739998800@www.brandondannals.com
SUMMARY:Center For the Arts Open Mic Showcase!
DESCRIPTION:Join myself and 13 other Nevada County artists on the Main Stage at the Center for the Arts in Grass Valley!  Also be ready for a jam/singalong at the end. You won’t want to miss this array of talent!!
URL:https://www.brandondannals.com/event/center-for-the-arts-open-mic-showcase-2/
END:VEVENT
BEGIN:VEVENT
DTSTART;TZID=UTC:20250219T170000
DTEND;TZID=UTC:20250219T200000
DTSTAMP:20260425T200112
CREATED:20241216T172944Z
LAST-MODIFIED:20241216T173831Z
UID:1694-1739984400-1739995200@www.brandondannals.com
SUMMARY:Center for the Arts Open Mic Showcase
DESCRIPTION:Center for the Arts Open Mic Showcase! \nThere will be a host of talent and I play at the end so lets see what surprises can happen!
URL:https://www.brandondannals.com/event/center-for-the-arts-open-mic-showcase/
END:VEVENT
BEGIN:VEVENT
DTSTART;TZID=UTC:20250214T180000
DTEND;TZID=UTC:20250214T200000
DTSTAMP:20260425T200112
CREATED:20241231T204929Z
LAST-MODIFIED:20241231T204929Z
UID:1701-1739556000-1739563200@www.brandondannals.com
SUMMARY:Valentines Day Banquet Lake Wildwood Community Center!
DESCRIPTION:Be serenaded by your favorite love songs and instrumentals with your special someone.
URL:https://www.brandondannals.com/event/valentines-day-banquet-lake-wildwood-community-center/
END:VEVENT
BEGIN:VEVENT
DTSTART;TZID=UTC:20250214T180000
DTEND;TZID=UTC:20250214T200000
DTSTAMP:20260425T200112
CREATED:20241216T174204Z
LAST-MODIFIED:20241216T174204Z
UID:1696-1739556000-1739563200@www.brandondannals.com
SUMMARY:Lake Wildwood Valentines Day
DESCRIPTION:Valentines Day at the Community Center!
URL:https://www.brandondannals.com/event/lake-wildwood-valentines-day/
END:VEVENT
BEGIN:VEVENT
DTSTART;TZID=UTC:20241226T200000
DTEND;TZID=UTC:20241226T230000
DTSTAMP:20260425T200112
CREATED:20241217T004525Z
LAST-MODIFIED:20241217T004525Z
UID:1698-1735243200-1735254000@www.brandondannals.com
SUMMARY:Live Music Karaoke at the Fern!
DESCRIPTION:You’ve been waiting and its back! Join me with my guitar and bring your favorite tune for this after Christmas celebration of your talents!!
URL:https://www.brandondannals.com/event/live-music-karaoke-at-the-fern/
END:VEVENT
BEGIN:VEVENT
DTSTART;TZID=UTC:20241224T140000
DTEND;TZID=UTC:20241224T170000
DTSTAMP:20260425T200112
CREATED:20241216T172647Z
LAST-MODIFIED:20241216T172647Z
UID:1692-1735048800-1735059600@www.brandondannals.com
SUMMARY:Lucchesis Christmas Eve Celebration!
DESCRIPTION:Celebrate with Barry and I as we bring Christmas songs of all flavors to Lucchesis Wine Tasting Room for their annual gathering!
URL:https://www.brandondannals.com/event/lucchesis-christmas-eve-celebration/
END:VEVENT
BEGIN:VEVENT
DTSTART;TZID=UTC:20241221T180000
DTEND;TZID=UTC:20241221T210000
DTSTAMP:20260425T200112
CREATED:20241216T172432Z
LAST-MODIFIED:20241216T172432Z
UID:1690-1734804000-1734814800@www.brandondannals.com
SUMMARY:Lucchesis Special Holiday Celebration!
DESCRIPTION:Join me at Lucchesis Wine Tasting Room in Grass Valley for joyous holiday favorites and rarities.  We will dive into some humorous Christmas songs!
URL:https://www.brandondannals.com/event/lucchesis-special-holiday-celebration/
END:VEVENT
BEGIN:VEVENT
DTSTART;TZID=UTC:20241218T190000
DTEND;TZID=UTC:20241218T210000
DTSTAMP:20260425T200112
CREATED:20241216T172057Z
LAST-MODIFIED:20241216T172057Z
UID:1688-1734548400-1734555600@www.brandondannals.com
SUMMARY:Victorian Christmas Nevada City!
DESCRIPTION:Gather with your whole family! \nJoin us for the always fun filled Christmas singalongs this Wednesday evening near the “Chestnuts Roasting” area at Three Forks Parking Lot in Nevada City. \n  \n 
URL:https://www.brandondannals.com/event/victorian-christmas-nevada-city-3/
END:VEVENT
END:VCALENDAR