BEGIN:VCALENDAR
VERSION:2.0
PRODID:-// - ECPv6.15.20//NONSGML v1.0//EN
CALSCALE:GREGORIAN
METHOD:PUBLISH
X-ORIGINAL-URL:https://www.brandondannals.com
X-WR-CALDESC:Events for 
REFRESH-INTERVAL;VALUE=DURATION:PT1H
X-Robots-Tag:noindex
X-PUBLISHED-TTL:PT1H
BEGIN:VTIMEZONE
TZID:UTC
BEGIN:STANDARD
TZOFFSETFROM:+0000
TZOFFSETTO:+0000
TZNAME:UTC
DTSTART:20230101T000000
END:STANDARD
END:VTIMEZONE
BEGIN:VEVENT
DTSTART;TZID=UTC:20250730T180000
DTEND;TZID=UTC:20250730T220000
DTSTAMP:20260426T014820
CREATED:20250529T193430Z
LAST-MODIFIED:20250529T193430Z
UID:1711-1753898400-1753912800@www.brandondannals.com
SUMMARY:Hot Summer Nights with the Brandon Dannals Band!!
DESCRIPTION:Join the Brandon Dannals Band as we bring use some good time rock n roll!
URL:https://www.brandondannals.com/event/hot-summer-nights-with-the-brandon-dannals-band/
END:VEVENT
BEGIN:VEVENT
DTSTART;TZID=UTC:20250606T170000
DTEND;TZID=UTC:20250606T210000
DTSTAMP:20260426T014820
CREATED:20250529T193306Z
LAST-MODIFIED:20250529T193306Z
UID:1708-1749229200-1749243600@www.brandondannals.com
SUMMARY:Nevada City Art Walk!
DESCRIPTION:Join the Brandon Dannals Band as we bring use some good time rock n roll!
URL:https://www.brandondannals.com/event/nevada-city-art-walk/
END:VEVENT
BEGIN:VEVENT
DTSTART;TZID=UTC:20250605T200000
DTEND;TZID=UTC:20250605T230000
DTSTAMP:20260426T014821
CREATED:20250529T194357Z
LAST-MODIFIED:20250529T194357Z
UID:1719-1749153600-1749164400@www.brandondannals.com
SUMMARY:Live Music Karaoke at The Fern Nevada City!
DESCRIPTION:This is always a hit so bring your favorite tune and I will accompany you!!
URL:https://www.brandondannals.com/event/live-music-karaoke-at-the-fern-nevada-city/
END:VEVENT
BEGIN:VEVENT
DTSTART;TZID=UTC:20250531T180000
DTEND;TZID=UTC:20250531T210000
DTSTAMP:20260426T014821
CREATED:20250529T193113Z
LAST-MODIFIED:20250529T193113Z
UID:1706-1748714400-1748725200@www.brandondannals.com
SUMMARY:Sierra City Private Event
DESCRIPTION:
URL:https://www.brandondannals.com/event/sierra-city-private-event/
END:VEVENT
BEGIN:VEVENT
DTSTART;TZID=UTC:20250219T190000
DTEND;TZID=UTC:20250219T210000
DTSTAMP:20260426T014821
CREATED:20241231T205244Z
LAST-MODIFIED:20241231T205244Z
UID:1703-1739991600-1739998800@www.brandondannals.com
SUMMARY:Center For the Arts Open Mic Showcase!
DESCRIPTION:Join myself and 13 other Nevada County artists on the Main Stage at the Center for the Arts in Grass Valley!  Also be ready for a jam/singalong at the end. You won’t want to miss this array of talent!!
URL:https://www.brandondannals.com/event/center-for-the-arts-open-mic-showcase-2/
END:VEVENT
BEGIN:VEVENT
DTSTART;TZID=UTC:20250219T170000
DTEND;TZID=UTC:20250219T200000
DTSTAMP:20260426T014821
CREATED:20241216T172944Z
LAST-MODIFIED:20241216T173831Z
UID:1694-1739984400-1739995200@www.brandondannals.com
SUMMARY:Center for the Arts Open Mic Showcase
DESCRIPTION:Center for the Arts Open Mic Showcase! \nThere will be a host of talent and I play at the end so lets see what surprises can happen!
URL:https://www.brandondannals.com/event/center-for-the-arts-open-mic-showcase/
END:VEVENT
BEGIN:VEVENT
DTSTART;TZID=UTC:20250214T180000
DTEND;TZID=UTC:20250214T200000
DTSTAMP:20260426T014821
CREATED:20241231T204929Z
LAST-MODIFIED:20241231T204929Z
UID:1701-1739556000-1739563200@www.brandondannals.com
SUMMARY:Valentines Day Banquet Lake Wildwood Community Center!
DESCRIPTION:Be serenaded by your favorite love songs and instrumentals with your special someone.
URL:https://www.brandondannals.com/event/valentines-day-banquet-lake-wildwood-community-center/
END:VEVENT
BEGIN:VEVENT
DTSTART;TZID=UTC:20250214T180000
DTEND;TZID=UTC:20250214T200000
DTSTAMP:20260426T014821
CREATED:20241216T174204Z
LAST-MODIFIED:20241216T174204Z
UID:1696-1739556000-1739563200@www.brandondannals.com
SUMMARY:Lake Wildwood Valentines Day
DESCRIPTION:Valentines Day at the Community Center!
URL:https://www.brandondannals.com/event/lake-wildwood-valentines-day/
END:VEVENT
BEGIN:VEVENT
DTSTART;TZID=UTC:20241226T200000
DTEND;TZID=UTC:20241226T230000
DTSTAMP:20260426T014821
CREATED:20241217T004525Z
LAST-MODIFIED:20241217T004525Z
UID:1698-1735243200-1735254000@www.brandondannals.com
SUMMARY:Live Music Karaoke at the Fern!
DESCRIPTION:You’ve been waiting and its back! Join me with my guitar and bring your favorite tune for this after Christmas celebration of your talents!!
URL:https://www.brandondannals.com/event/live-music-karaoke-at-the-fern/
END:VEVENT
BEGIN:VEVENT
DTSTART;TZID=UTC:20241224T140000
DTEND;TZID=UTC:20241224T170000
DTSTAMP:20260426T014821
CREATED:20241216T172647Z
LAST-MODIFIED:20241216T172647Z
UID:1692-1735048800-1735059600@www.brandondannals.com
SUMMARY:Lucchesis Christmas Eve Celebration!
DESCRIPTION:Celebrate with Barry and I as we bring Christmas songs of all flavors to Lucchesis Wine Tasting Room for their annual gathering!
URL:https://www.brandondannals.com/event/lucchesis-christmas-eve-celebration/
END:VEVENT
BEGIN:VEVENT
DTSTART;TZID=UTC:20241221T180000
DTEND;TZID=UTC:20241221T210000
DTSTAMP:20260426T014821
CREATED:20241216T172432Z
LAST-MODIFIED:20241216T172432Z
UID:1690-1734804000-1734814800@www.brandondannals.com
SUMMARY:Lucchesis Special Holiday Celebration!
DESCRIPTION:Join me at Lucchesis Wine Tasting Room in Grass Valley for joyous holiday favorites and rarities.  We will dive into some humorous Christmas songs!
URL:https://www.brandondannals.com/event/lucchesis-special-holiday-celebration/
END:VEVENT
BEGIN:VEVENT
DTSTART;TZID=UTC:20241218T190000
DTEND;TZID=UTC:20241218T210000
DTSTAMP:20260426T014821
CREATED:20241216T172057Z
LAST-MODIFIED:20241216T172057Z
UID:1688-1734548400-1734555600@www.brandondannals.com
SUMMARY:Victorian Christmas Nevada City!
DESCRIPTION:Gather with your whole family! \nJoin us for the always fun filled Christmas singalongs this Wednesday evening near the “Chestnuts Roasting” area at Three Forks Parking Lot in Nevada City. \n  \n 
URL:https://www.brandondannals.com/event/victorian-christmas-nevada-city-3/
END:VEVENT
BEGIN:VEVENT
DTSTART;TZID=UTC:20241017T170000
DTEND;TZID=UTC:20241017T200000
DTSTAMP:20260426T014821
CREATED:20240816T154147Z
LAST-MODIFIED:20240816T154147Z
UID:1685-1729184400-1729195200@www.brandondannals.com
SUMMARY:Mcgees Brandon solo
DESCRIPTION:
URL:https://www.brandondannals.com/event/mcgees-brandon-solo/
END:VEVENT
BEGIN:VEVENT
DTSTART;TZID=UTC:20241009T173000
DTEND;TZID=UTC:20241009T203000
DTSTAMP:20260426T014821
CREATED:20240816T154043Z
LAST-MODIFIED:20240816T154043Z
UID:1683-1728495000-1728505800@www.brandondannals.com
SUMMARY:Lake Wildwood at Oaks Clubhouse!!
DESCRIPTION:
URL:https://www.brandondannals.com/event/lake-wildwood-at-oaks-clubhouse/
END:VEVENT
BEGIN:VEVENT
DTSTART;TZID=UTC:20240928T180000
DTEND;TZID=UTC:20240928T210000
DTSTAMP:20260426T014821
CREATED:20240803T201237Z
LAST-MODIFIED:20240816T153647Z
UID:1676-1727546400-1727557200@www.brandondannals.com
SUMMARY:Five Mile House Every Saturday Night with the Brandon Dannals Band!!!
DESCRIPTION:
URL:https://www.brandondannals.com/event/five-mile-house-every-saturday-night-with-the-brandon-dannals-band-7/
END:VEVENT
BEGIN:VEVENT
DTSTART;TZID=UTC:20240921T180000
DTEND;TZID=UTC:20240921T210000
DTSTAMP:20260426T014821
CREATED:20240816T153917Z
LAST-MODIFIED:20240816T153917Z
UID:1681-1726941600-1726952400@www.brandondannals.com
SUMMARY:Five Mile House Every Saturday Night with the Brandon Dannals Band!!!
DESCRIPTION:
URL:https://www.brandondannals.com/event/five-mile-house-every-saturday-night-with-the-brandon-dannals-band-9/
END:VEVENT
BEGIN:VEVENT
DTSTART;TZID=UTC:20240914T080000
DTEND;TZID=UTC:20240914T170000
DTSTAMP:20260426T014821
CREATED:20240816T153828Z
LAST-MODIFIED:20240816T153828Z
UID:1679-1726300800-1726333200@www.brandondannals.com
SUMMARY:Five Mile House Every Saturday Night with the Brandon Dannals Band!!!
DESCRIPTION:
URL:https://www.brandondannals.com/event/five-mile-house-every-saturday-night-with-the-brandon-dannals-band-8/
END:VEVENT
BEGIN:VEVENT
DTSTART;TZID=UTC:20240831T180000
DTEND;TZID=UTC:20240831T210000
DTSTAMP:20260426T014821
CREATED:20240803T201155Z
LAST-MODIFIED:20240803T201155Z
UID:1674-1725127200-1725138000@www.brandondannals.com
SUMMARY:Five Mile House Every Saturday Night with the Brandon Dannals Band!!!
DESCRIPTION:
URL:https://www.brandondannals.com/event/five-mile-house-every-saturday-night-with-the-brandon-dannals-band-6/
END:VEVENT
BEGIN:VEVENT
DTSTART;TZID=UTC:20240824T180000
DTEND;TZID=UTC:20240824T210000
DTSTAMP:20260426T014821
CREATED:20240803T201105Z
LAST-MODIFIED:20240803T201105Z
UID:1672-1724522400-1724533200@www.brandondannals.com
SUMMARY:Five Mile House Every Saturday Night with the Brandon Dannals Band!!!
DESCRIPTION:
URL:https://www.brandondannals.com/event/five-mile-house-every-saturday-night-with-the-brandon-dannals-band-5/
END:VEVENT
BEGIN:VEVENT
DTSTART;TZID=UTC:20240821T180000
DTEND;TZID=UTC:20240821T200000
DTSTAMP:20260426T014821
CREATED:20240725T184020Z
LAST-MODIFIED:20240725T184020Z
UID:1665-1724263200-1724270400@www.brandondannals.com
SUMMARY:Friar Tucks Street Fair with the Brandon Dannals Band!
DESCRIPTION:Just like at Hot Summer Nights they loved it so much they put us on from 6-8pm to close out the Street Fair!!
URL:https://www.brandondannals.com/event/friar-tucks-street-fair-with-the-brandon-dannals-band/
END:VEVENT
BEGIN:VEVENT
DTSTART;TZID=UTC:20240818T130000
DTEND;TZID=UTC:20240818T170000
DTSTAMP:20260426T014821
CREATED:20240725T183811Z
LAST-MODIFIED:20240725T183811Z
UID:1663-1723986000-1724000400@www.brandondannals.com
SUMMARY:McGees in Nevada City with the Brandon Dannals Band!
DESCRIPTION:Brandon Dannals Band first show at McGees! Come groove!
URL:https://www.brandondannals.com/event/mcgees-in-nevada-city-with-the-brandon-dannals-band/
END:VEVENT
BEGIN:VEVENT
DTSTART;TZID=UTC:20240817T080000
DTEND;TZID=UTC:20240817T170000
DTSTAMP:20260426T014821
CREATED:20240803T200945Z
LAST-MODIFIED:20240803T200945Z
UID:1670-1723881600-1723914000@www.brandondannals.com
SUMMARY:Five Mile House Every Saturday Night with the Brandon Dannals Band!!!
DESCRIPTION:
URL:https://www.brandondannals.com/event/five-mile-house-every-saturday-night-with-the-brandon-dannals-band-4/
END:VEVENT
BEGIN:VEVENT
DTSTART;TZID=UTC:20240816T180000
DTEND;TZID=UTC:20240816T210000
DTSTAMP:20260426T014821
CREATED:20240725T184133Z
LAST-MODIFIED:20240725T184133Z
UID:1667-1723831200-1723842000@www.brandondannals.com
SUMMARY:Lucchesis!
DESCRIPTION:My favorite with these wonderful people!
URL:https://www.brandondannals.com/event/lucchesis-15/
END:VEVENT
BEGIN:VEVENT
DTSTART;TZID=UTC:20240811T130000
DTEND;TZID=UTC:20240811T160000
DTSTAMP:20260426T014821
CREATED:20240625T210343Z
LAST-MODIFIED:20240625T210343Z
UID:1644-1723381200-1723392000@www.brandondannals.com
SUMMARY:Nevada County Fair Foundation Station!
DESCRIPTION:You never know what kind of surprise but it’ll sure be good!!
URL:https://www.brandondannals.com/event/nevada-county-fair-foundation-station/
END:VEVENT
BEGIN:VEVENT
DTSTART;TZID=UTC:20240810T080000
DTEND;TZID=UTC:20240810T170000
DTSTAMP:20260426T014821
CREATED:20240725T183339Z
LAST-MODIFIED:20240725T183339Z
UID:1659-1723276800-1723309200@www.brandondannals.com
SUMMARY:Five Mile House Every Saturday Night with the Brandon Dannals Band!!!
DESCRIPTION:
URL:https://www.brandondannals.com/event/five-mile-house-every-saturday-night-with-the-brandon-dannals-band-3/
END:VEVENT
BEGIN:VEVENT
DTSTART;TZID=UTC:20240803T080000
DTEND;TZID=UTC:20240803T170000
DTSTAMP:20260426T014821
CREATED:20240725T183244Z
LAST-MODIFIED:20240725T183244Z
UID:1656-1722672000-1722704400@www.brandondannals.com
SUMMARY:Five Mile House Every Saturday Night with the Brandon Dannals Band!!!
DESCRIPTION:
URL:https://www.brandondannals.com/event/five-mile-house-every-saturday-night-with-the-brandon-dannals-band-2/
END:VEVENT
BEGIN:VEVENT
DTSTART;TZID=UTC:20240802T200000
DTEND;TZID=UTC:20240802T230000
DTSTAMP:20260426T014821
CREATED:20240725T183539Z
LAST-MODIFIED:20240725T183539Z
UID:1661-1722628800-1722639600@www.brandondannals.com
SUMMARY:The Brass Rail with the Brandon Dannals Band!!
DESCRIPTION:Shake down the heat with us at the Brass Rail in North San Juan
URL:https://www.brandondannals.com/event/the-brass-rail-with-the-brandon-dannals-band/
END:VEVENT
BEGIN:VEVENT
DTSTART;TZID=UTC:20240731T180000
DTEND;TZID=UTC:20240731T210000
DTSTAMP:20260426T014821
CREATED:20240625T205939Z
LAST-MODIFIED:20240625T205939Z
UID:1641-1722448800-1722459600@www.brandondannals.com
SUMMARY:Hot Summer Nights with Brandon Dannals Band! Nevada City Main Street
DESCRIPTION:Summer just got Rockin!!! \n  \n 
URL:https://www.brandondannals.com/event/hot-summer-nights-with-brandon-dannals-band-nevada-city-main-street/
END:VEVENT
BEGIN:VEVENT
DTSTART;TZID=UTC:20240727T180000
DTEND;TZID=UTC:20240727T210000
DTSTAMP:20260426T014821
CREATED:20240725T183158Z
LAST-MODIFIED:20240725T183159Z
UID:1654-1722103200-1722114000@www.brandondannals.com
SUMMARY:Five Mile House Every Saturday Night with the Brandon Dannals Band!!!
DESCRIPTION:Come get down with us at the Legendary Five Mile House just up from  Nevada City and rock out your weekend!
URL:https://www.brandondannals.com/event/five-mile-house-every-saturday-night-with-the-brandon-dannals-band/
END:VEVENT
BEGIN:VEVENT
DTSTART;TZID=UTC:20240726T080000
DTEND;TZID=UTC:20240726T170000
DTSTAMP:20260426T014821
CREATED:20240625T205815Z
LAST-MODIFIED:20240625T205815Z
UID:1639-1721980800-1722013200@www.brandondannals.com
SUMMARY:Private Party
DESCRIPTION:
URL:https://www.brandondannals.com/event/private-party-4/
END:VEVENT
END:VCALENDAR