BEGIN:VCALENDAR
VERSION:2.0
PRODID:-// - ECPv6.15.20//NONSGML v1.0//EN
CALSCALE:GREGORIAN
METHOD:PUBLISH
X-ORIGINAL-URL:https://www.brandondannals.com
X-WR-CALDESC:Events for 
REFRESH-INTERVAL;VALUE=DURATION:PT1H
X-Robots-Tag:noindex
X-PUBLISHED-TTL:PT1H
BEGIN:VTIMEZONE
TZID:UTC
BEGIN:STANDARD
TZOFFSETFROM:+0000
TZOFFSETTO:+0000
TZNAME:UTC
DTSTART:20220101T000000
END:STANDARD
END:VTIMEZONE
BEGIN:VEVENT
DTSTART;TZID=UTC:20240427T180000
DTEND;TZID=UTC:20240427T210000
DTSTAMP:20260426T043605
CREATED:20240303T020521Z
LAST-MODIFIED:20240423T214809Z
UID:1543-1714240800-1714251600@www.brandondannals.com
SUMMARY:The Red Herrings (Tom Wernigg and myself) for a little sweet music at the Seven Stars Gallery in Nevada City!
DESCRIPTION:Let’s see what satirical and intuitive originals the funny and vibrant  Nevada County’s Tom Wernigg has in store for us this time.  Hang on to your hat!
URL:https://www.brandondannals.com/event/tom-wernigg-and-myself-for-a-little-sweet-music/
END:VEVENT
BEGIN:VEVENT
DTSTART;TZID=UTC:20240406T180000
DTEND;TZID=UTC:20240406T210000
DTSTAMP:20260426T043605
CREATED:20240303T020116Z
LAST-MODIFIED:20240303T020116Z
UID:1541-1712426400-1712437200@www.brandondannals.com
SUMMARY:New Brass Rail with Brandon Dannals Band!
DESCRIPTION:Jump into fun and funk\, classic rock and your requests if we can!
URL:https://www.brandondannals.com/event/new-brass-rail-with-brandon-dannals-band/
END:VEVENT
BEGIN:VEVENT
DTSTART;TZID=UTC:20240323T080000
DTEND;TZID=UTC:20240323T170000
DTSTAMP:20260426T043605
CREATED:20240303T015926Z
LAST-MODIFIED:20240303T015926Z
UID:1539-1711180800-1711213200@www.brandondannals.com
SUMMARY:Jim Party (private)
DESCRIPTION:
URL:https://www.brandondannals.com/event/jim-party-private/
END:VEVENT
BEGIN:VEVENT
DTSTART;TZID=UTC:20240321T190000
DTEND;TZID=UTC:20240321T230000
DTSTAMP:20260426T043605
CREATED:20240303T015110Z
LAST-MODIFIED:20240303T015258Z
UID:1532-1711047600-1711062000@www.brandondannals.com
SUMMARY:The Fern.  Live Music Karaoke!!!
DESCRIPTION:Every first and third Thursday let us groove! You choose the tune and I will do my best to accompany your requests on guitar and vocals!!
URL:https://www.brandondannals.com/event/the-fern-live-music-karaoke-2/
END:VEVENT
BEGIN:VEVENT
DTSTART;TZID=UTC:20240320T180000
DTEND;TZID=UTC:20240320T200000
DTSTAMP:20260426T043605
CREATED:20240303T015852Z
LAST-MODIFIED:20240303T015852Z
UID:1537-1710957600-1710964800@www.brandondannals.com
SUMMARY:Lake Wildwood Fun at the Oaks Clubhouse!
DESCRIPTION:Let us get together for some acoustic sweetness. Accompanied by Lee on percussion elements!
URL:https://www.brandondannals.com/event/lake-wildwood-fun-at-the-oaks-clubhouse/
END:VEVENT
BEGIN:VEVENT
DTSTART;TZID=UTC:20240316T180000
DTEND;TZID=UTC:20240316T210000
DTSTAMP:20260426T043605
CREATED:20240303T014740Z
LAST-MODIFIED:20240303T014740Z
UID:1528-1710612000-1710622800@www.brandondannals.com
SUMMARY:Lucchesis !!
DESCRIPTION:Come drop into the wonderful oh so sweet quaint wine tasting rom in Grass Valley! \n  \n 
URL:https://www.brandondannals.com/event/lucchesis-12/
END:VEVENT
BEGIN:VEVENT
DTSTART;TZID=UTC:20240307T190000
DTEND;TZID=UTC:20240307T233000
DTSTAMP:20260426T043605
CREATED:20240303T015419Z
LAST-MODIFIED:20240303T015419Z
UID:1535-1709838000-1709854200@www.brandondannals.com
SUMMARY:Lets rock Live Music Karaoke at The Fern
DESCRIPTION:Every first and third Thursday let us groove! You choose the tune and I will do my best to accompany your requests on guitar and vocals!! \nNevada City!
URL:https://www.brandondannals.com/event/lets-rock-live-music-karaoke-at-the-fern/
END:VEVENT
BEGIN:VEVENT
DTSTART;TZID=UTC:20240301T190000
DTEND;TZID=UTC:20240301T210000
DTSTAMP:20260426T043605
CREATED:20231202T153630Z
LAST-MODIFIED:20231202T153630Z
UID:1500-1709319600-1709326800@www.brandondannals.com
SUMMARY:All Aboard the Tiki Train with Ho'okipa Hawaiian Band!!
DESCRIPTION:Ride with Ho’okipa on the Aloha Express Tiki Train!!  The River Fox Express is pure Hawaiian paradise on wheels! \nJoin us in Sacramento where we will accompany your ride with authentic Hawaiian music and hula dancers!! \nhttps://www.hookipamusic.com/shows/
URL:https://www.brandondannals.com/event/all-aboard-the-tiki-train-with-hookipa-hawaiian-band/
END:VEVENT
BEGIN:VEVENT
DTSTART;TZID=UTC:20240111T200000
DTEND;TZID=UTC:20240111T230000
DTSTAMP:20260426T043605
CREATED:20240106T133355Z
LAST-MODIFIED:20240106T133355Z
UID:1522-1705003200-1705014000@www.brandondannals.com
SUMMARY:Live Music  rock n roll classic Kareoke at the FERN Nevada City!
DESCRIPTION:Bring it on Nevada County! I wil accompany y’all with your requests on my guitar as best I can!!
URL:https://www.brandondannals.com/event/live-music-rock-n-roll-classic-kareoke-at-the-fern-nevada-city/
END:VEVENT
BEGIN:VEVENT
DTSTART;TZID=UTC:20240107T080000
DTEND;TZID=UTC:20240107T170000
DTSTAMP:20260426T043605
CREATED:20240106T133616Z
LAST-MODIFIED:20240106T133616Z
UID:1524-1704614400-1704646800@www.brandondannals.com
SUMMARY:Private Party!!
DESCRIPTION:
URL:https://www.brandondannals.com/event/private-party-3/
END:VEVENT
BEGIN:VEVENT
DTSTART;TZID=UTC:20240106T190000
DTEND;TZID=UTC:20240106T220000
DTSTAMP:20260426T043605
CREATED:20231218T145637Z
LAST-MODIFIED:20231218T145637Z
UID:1511-1704567600-1704578400@www.brandondannals.com
SUMMARY:Tom Wernigg and the Red Herrings at the Wild Eye Pub!
DESCRIPTION:Brandon will be playing electric guitar and singing harmony with these guys at Wild Eye Pub!
URL:https://www.brandondannals.com/event/tom-wernigg-and-the-red-herrings-at-the-wild-eye-pub/
END:VEVENT
BEGIN:VEVENT
DTSTART;TZID=UTC:20240105T190000
DTEND;TZID=UTC:20240105T210000
DTSTAMP:20260426T043605
CREATED:20231202T153405Z
LAST-MODIFIED:20231202T153405Z
UID:1497-1704481200-1704488400@www.brandondannals.com
SUMMARY:Tiki Train Ho'okipa Hawaiian Band
DESCRIPTION:Ride with Ho’okipa on the Aloha Express Tiki Train!!  The River Fox Express is pure Hawaiian paradise on wheels! \nJoin us in Sacramento where we will accompany your ride with authentic Hawaiian music and hula dancers!! \nhttps://www.hookipamusic.com/shows/
URL:https://www.brandondannals.com/event/tiki-train-hookipa-hawaiian-band/
END:VEVENT
BEGIN:VEVENT
DTSTART;TZID=UTC:20240104T190000
DTEND;TZID=UTC:20240104T220000
DTSTAMP:20260426T043605
CREATED:20231224T152458Z
LAST-MODIFIED:20231224T152458Z
UID:1519-1704394800-1704405600@www.brandondannals.com
SUMMARY:At the Fern! Live Band 60s\, 70s\, 80s Classic Rock Kareoke debut! Nevada City
DESCRIPTION:Bring your 60s\, 70s and 80s requests to the table! Sing with a live band!
URL:https://www.brandondannals.com/event/at-the-fern-live-band-60s-70s-80s-classic-rock-kareoke-debut-nevada-city/
END:VEVENT
BEGIN:VEVENT
DTSTART;TZID=UTC:20231231T200000
DTEND;TZID=UTC:20231231T233000
DTSTAMP:20260426T043605
CREATED:20231224T151904Z
LAST-MODIFIED:20231224T151904Z
UID:1516-1704052800-1704065400@www.brandondannals.com
SUMMARY:New years Eve at the FERN!!! Nevada City
DESCRIPTION:Our debut as a band at the Fern is New Years wow!! Come party down with us!
URL:https://www.brandondannals.com/event/new-years-eve-at-the-fern-nevada-city/
END:VEVENT
BEGIN:VEVENT
DTSTART;TZID=UTC:20231230T180000
DTEND;TZID=UTC:20231230T210000
DTSTAMP:20260426T043605
CREATED:20231202T180802Z
LAST-MODIFIED:20231202T180802Z
UID:1505-1703959200-1703970000@www.brandondannals.com
SUMMARY:Lucchesis.   Happy New Years a day early!!!!
DESCRIPTION:Bring it in friends!!!!
URL:https://www.brandondannals.com/event/lucchesis-happy-new-years-a-day-early/
END:VEVENT
BEGIN:VEVENT
DTSTART;TZID=UTC:20231228T180000
DTEND;TZID=UTC:20231228T210000
DTSTAMP:20260426T043605
CREATED:20231218T172135Z
LAST-MODIFIED:20231224T153056Z
UID:1514-1703786400-1703797200@www.brandondannals.com
SUMMARY:Rockin' The Fern in Nevada City!!
DESCRIPTION:Join Brandon Dannals as a solo act with sing alongs and bring your 50s\, 60s and 70s song requests to the table!!
URL:https://www.brandondannals.com/event/kareoke-jam-at-the-fern-every-thursday/
END:VEVENT
BEGIN:VEVENT
DTSTART;TZID=UTC:20231224T130000
DTEND;TZID=UTC:20231224T160000
DTSTAMP:20260426T043605
CREATED:20231129T160007Z
LAST-MODIFIED:20231218T150437Z
UID:1493-1703422800-1703433600@www.brandondannals.com
SUMMARY:Lucchesis Christmas Eve!!
DESCRIPTION:Holiday Journey of laughter!!! \nFamilies encouraged to sing along with many of your favorites!!
URL:https://www.brandondannals.com/event/barry-and-brandon-lucchesis-christmas-eve/
END:VEVENT
BEGIN:VEVENT
DTSTART;TZID=UTC:20231217T180000
DTEND;TZID=UTC:20231217T210000
DTSTAMP:20260426T043605
CREATED:20231129T155518Z
LAST-MODIFIED:20231129T155518Z
UID:1490-1702836000-1702846800@www.brandondannals.com
SUMMARY:Victorian Christmas!! Nevada City
DESCRIPTION:Come join me as I sing carols and holiday favorites around “Chestnuts Roasting on an Open Fire” in the Three Forks parking lot.
URL:https://www.brandondannals.com/event/victorian-christmas-nevada-city-2/
END:VEVENT
BEGIN:VEVENT
DTSTART;TZID=UTC:20231213T173000
DTEND;TZID=UTC:20231213T193000
DTSTAMP:20260426T043605
CREATED:20231129T160407Z
LAST-MODIFIED:20231129T160407Z
UID:1495-1702488600-1702495800@www.brandondannals.com
SUMMARY:Lake Wildwood Oaks Clubhouse Holiday Fun!!
DESCRIPTION:Merry Christmas as I share a host of holiday favorites and singalongs. Also some great tunes you don’t hear played enough. Let’s laugh it up Lake Wildwood Clubhouse!!
URL:https://www.brandondannals.com/event/lake-wildwood-oaks-clubhouse-holiday-fun/
END:VEVENT
BEGIN:VEVENT
DTSTART;TZID=UTC:20231210T133000
DTEND;TZID=UTC:20231210T160000
DTSTAMP:20260426T043605
CREATED:20231129T155412Z
LAST-MODIFIED:20231129T155412Z
UID:1488-1702215000-1702224000@www.brandondannals.com
SUMMARY:Victorian Christmas!! Nevada City
DESCRIPTION:Come join me as I sing carols and holiday favorites around “Chestnuts Roasting on an Open Fire” in the Three Forks parking lot.
URL:https://www.brandondannals.com/event/victorian-christmas-nevada-city/
END:VEVENT
BEGIN:VEVENT
DTSTART;TZID=UTC:20231208T100000
DTEND;TZID=UTC:20231208T140000
DTSTAMP:20260426T043605
CREATED:20231107T193810Z
LAST-MODIFIED:20231107T193810Z
UID:1482-1702029600-1702044000@www.brandondannals.com
SUMMARY:Rough and Ready Grange Christmas party!
DESCRIPTION:
URL:https://www.brandondannals.com/event/rough-and-ready-grange-christmas-party/
END:VEVENT
BEGIN:VEVENT
DTSTART;TZID=UTC:20231125T100000
DTEND;TZID=UTC:20231125T130000
DTSTAMP:20260426T043605
CREATED:20231107T205520Z
LAST-MODIFIED:20231107T205520Z
UID:1484-1700906400-1700917200@www.brandondannals.com
SUMMARY:Pancake breakfast perhaps a tune or two
DESCRIPTION:
URL:https://www.brandondannals.com/event/pancake-breakfast-perhaps-a-tune-or-two/
END:VEVENT
BEGIN:VEVENT
DTSTART;TZID=UTC:20231122T173000
DTEND;TZID=UTC:20231122T193000
DTSTAMP:20260426T043605
CREATED:20231107T193228Z
LAST-MODIFIED:20231107T193228Z
UID:1480-1700674200-1700681400@www.brandondannals.com
SUMMARY:Lake Wildwood Thanksgiving!!
DESCRIPTION:Join us at the Clubhouse and bring in holiday cheer!
URL:https://www.brandondannals.com/event/lake-wildwood-thanksgiving/
END:VEVENT
BEGIN:VEVENT
DTSTART;TZID=UTC:20230923T180000
DTEND;TZID=UTC:20230923T210000
DTSTAMP:20260426T043605
CREATED:20230820T215927Z
LAST-MODIFIED:20230820T215927Z
UID:1468-1695492000-1695502800@www.brandondannals.com
SUMMARY:Lucchesis!
DESCRIPTION:Featuring the Brandon Dannals Duo w Jeff Comas!
URL:https://www.brandondannals.com/event/lucchesis-11/
END:VEVENT
BEGIN:VEVENT
DTSTART;TZID=UTC:20230916T100000
DTEND;TZID=UTC:20230916T190000
DTSTAMP:20260426T043605
CREATED:20230408T154142Z
LAST-MODIFIED:20230820T220226Z
UID:1403-1694858400-1694890800@www.brandondannals.com
SUMMARY:HO'OKIPA AT ALOHAFEST! TRIBUTE TO MAUI  GOLD COUNTRY FAIRGROUNDS
DESCRIPTION:HO’OKIPA AT IT AGAIN! \nTRIBUTE TO MAUI \n 
URL:https://www.brandondannals.com/event/hookipa-at-alohafest-gold-country-fairgrounds/
END:VEVENT
BEGIN:VEVENT
DTSTART;TZID=UTC:20230810T110000
DTEND;TZID=UTC:20230810T123000
DTSTAMP:20260426T043605
CREATED:20230408T153959Z
LAST-MODIFIED:20230408T153959Z
UID:1401-1691665200-1691670600@www.brandondannals.com
SUMMARY:HO'OKIPA AT THE NEVADA COUNTY FAIR !!!
DESCRIPTION:HO’OKIPA AT THE NEVADA COUNTY FAIR !!! \n \n 
URL:https://www.brandondannals.com/event/hookipa-at-the-nevada-county-fair/
END:VEVENT
BEGIN:VEVENT
DTSTART;TZID=UTC:20230806T120000
DTEND;TZID=UTC:20230806T170000
DTSTAMP:20260426T043605
CREATED:20230408T153637Z
LAST-MODIFIED:20230408T153717Z
UID:1398-1691323200-1691341200@www.brandondannals.com
SUMMARY:Sturgis!!!
DESCRIPTION:Last year we rocked out in Hewlett\, Wyoming for the annual Sturgis Bike Rally! Starts Sunday but we usually go until Wednesday. \n 
URL:https://www.brandondannals.com/event/sturgis/
END:VEVENT
BEGIN:VEVENT
DTSTART;TZID=UTC:20230729T173000
DTEND;TZID=UTC:20230729T203000
DTSTAMP:20260426T043605
CREATED:20230718T191437Z
LAST-MODIFIED:20230718T191437Z
UID:1463-1690651800-1690662600@www.brandondannals.com
SUMMARY:Private Bday Party
DESCRIPTION:
URL:https://www.brandondannals.com/event/private-bday-party/
END:VEVENT
BEGIN:VEVENT
DTSTART;TZID=UTC:20230728T180000
DTEND;TZID=UTC:20230728T210000
DTSTAMP:20260426T043605
CREATED:20230718T191346Z
LAST-MODIFIED:20230718T191346Z
UID:1461-1690567200-1690578000@www.brandondannals.com
SUMMARY:Lucchesis!
DESCRIPTION:
URL:https://www.brandondannals.com/event/lucchesis-10/
END:VEVENT
BEGIN:VEVENT
DTSTART;TZID=UTC:20230722T170000
DTEND;TZID=UTC:20230722T200000
DTSTAMP:20260426T043605
CREATED:20230424T222437Z
LAST-MODIFIED:20230424T222437Z
UID:1419-1690045200-1690056000@www.brandondannals.com
SUMMARY:Downieville Brewfest!
DESCRIPTION:
URL:https://www.brandondannals.com/event/downieville-brewfest/
END:VEVENT
END:VCALENDAR