BEGIN:VCALENDAR
VERSION:2.0
PRODID:-// - ECPv6.15.20//NONSGML v1.0//EN
CALSCALE:GREGORIAN
METHOD:PUBLISH
X-ORIGINAL-URL:https://www.brandondannals.com
X-WR-CALDESC:Events for 
REFRESH-INTERVAL;VALUE=DURATION:PT1H
X-Robots-Tag:noindex
X-PUBLISHED-TTL:PT1H
BEGIN:VTIMEZONE
TZID:UTC
BEGIN:STANDARD
TZOFFSETFROM:+0000
TZOFFSETTO:+0000
TZNAME:UTC
DTSTART:20250101T000000
END:STANDARD
END:VTIMEZONE
BEGIN:VEVENT
DTSTART;TZID=UTC:20260307T193000
DTEND;TZID=UTC:20260307T223000
DTSTAMP:20260425T135046
CREATED:20260201T185808Z
LAST-MODIFIED:20260201T185808Z
UID:1811-1772911800-1772922600@www.brandondannals.com
SUMMARY:Brandon Dannals Experience at Uncle Sonny's
DESCRIPTION:
URL:https://www.brandondannals.com/event/brandon-dannals-experience-at-uncle-sonnys/
END:VEVENT
BEGIN:VEVENT
DTSTART;TZID=UTC:20260314T130000
DTEND;TZID=UTC:20260314T163000
DTSTAMP:20260425T135046
CREATED:20260201T190044Z
LAST-MODIFIED:20260201T191325Z
UID:1813-1773493200-1773505800@www.brandondannals.com
SUMMARY:Avanguardia Wine
DESCRIPTION:Relax to acoustic and maybe some electric songs on a winter afternoon.
URL:https://www.brandondannals.com/event/avanguardia-wine/
LOCATION:Avanguardia Wine\, 163 Mill St\, Grass Valley\, CA\, 95945\, United States
END:VEVENT
BEGIN:VEVENT
DTSTART;TZID=UTC:20260315T150000
DTEND;TZID=UTC:20260315T180000
DTSTAMP:20260425T135046
CREATED:20260201T190633Z
LAST-MODIFIED:20260201T190633Z
UID:1815-1773586800-1773597600@www.brandondannals.com
SUMMARY:Performing alongside Mark Vieaux \, at Grass Valley Brewwwww Have we got a show for youuuuuu !
DESCRIPTION:GV Brew!
URL:https://www.brandondannals.com/event/performing-alongside-mark-vieaux-at-grass-valley-brewwwww-have-we-got-a-show-for-youuuuuu/
LOCATION:grass  valley brew
END:VEVENT
BEGIN:VEVENT
DTSTART;TZID=UTC:20260316T160000
DTEND;TZID=UTC:20260316T180000
DTSTAMP:20260425T135046
CREATED:20260316T205615Z
LAST-MODIFIED:20260316T205615Z
UID:1828-1773676800-1773684000@www.brandondannals.com
SUMMARY:Nevada City Winery
DESCRIPTION:Acoustic sweetness and your requests!
URL:https://www.brandondannals.com/event/nevada-city-winery/
END:VEVENT
BEGIN:VEVENT
DTSTART;TZID=UTC:20260319T180000
DTEND;TZID=UTC:20260319T210000
DTSTAMP:20260425T135046
CREATED:20260316T204053Z
LAST-MODIFIED:20260316T204053Z
UID:1822-1773943200-1773954000@www.brandondannals.com
SUMMARY:Smoked at the Owl!
DESCRIPTION:Get ready to enjoy some good time oldies and rock n roll classics!
URL:https://www.brandondannals.com/event/smoked-at-the-owl/
LOCATION:Smoked at the Owl\, Grass Valley
END:VEVENT
BEGIN:VEVENT
DTSTART;TZID=UTC:20260321T173000
DTEND;TZID=UTC:20260321T200000
DTSTAMP:20260425T135046
CREATED:20260201T190736Z
LAST-MODIFIED:20260201T190736Z
UID:1818-1774114200-1774123200@www.brandondannals.com
SUMMARY:Lake Wildwood Oaks Clubhouse!
DESCRIPTION:
URL:https://www.brandondannals.com/event/lake-wildwood-oaks-clubhouse-2/
END:VEVENT
END:VCALENDAR